BEGIN:VCALENDAR
VERSION:2.0
PRODID:-//Station Street Studio - ECPv6.15.20//NONSGML v1.0//EN
CALSCALE:GREGORIAN
METHOD:PUBLISH
X-WR-CALNAME:Station Street Studio
X-ORIGINAL-URL:https://stationstreetstudio.com
X-WR-CALDESC:Events for Station Street Studio
REFRESH-INTERVAL;VALUE=DURATION:PT1H
X-Robots-Tag:noindex
X-PUBLISHED-TTL:PT1H
BEGIN:VTIMEZONE
TZID:Europe/London
BEGIN:DAYLIGHT
TZOFFSETFROM:+0000
TZOFFSETTO:+0100
TZNAME:BST
DTSTART:20230326T010000
END:DAYLIGHT
BEGIN:STANDARD
TZOFFSETFROM:+0100
TZOFFSETTO:+0000
TZNAME:GMT
DTSTART:20231029T010000
END:STANDARD
BEGIN:DAYLIGHT
TZOFFSETFROM:+0000
TZOFFSETTO:+0100
TZNAME:BST
DTSTART:20240331T010000
END:DAYLIGHT
BEGIN:STANDARD
TZOFFSETFROM:+0100
TZOFFSETTO:+0000
TZNAME:GMT
DTSTART:20241027T010000
END:STANDARD
BEGIN:DAYLIGHT
TZOFFSETFROM:+0000
TZOFFSETTO:+0100
TZNAME:BST
DTSTART:20250330T010000
END:DAYLIGHT
BEGIN:STANDARD
TZOFFSETFROM:+0100
TZOFFSETTO:+0000
TZNAME:GMT
DTSTART:20251026T010000
END:STANDARD
END:VTIMEZONE
BEGIN:VEVENT
DTSTART;TZID=Europe/London:20241016T080000
DTEND;TZID=Europe/London:20241016T170000
DTSTAMP:20260420T061430
CREATED:20241008T120344Z
LAST-MODIFIED:20241027T163032Z
UID:10000590-1729065600-1729098000@stationstreetstudio.com
SUMMARY:Adult Contemporary Dance Class Term 1
DESCRIPTION:Adults contemporary dance class for all ages and abilities from 16 and up. Come and enjoy the freedom of creative movement with expert tuition in central Lewes. All welcome.\nCamillecooperdance@gmail.com
URL:https://stationstreetstudio.com/event/contemporary-dance-classes/2024-10-16/1/
LOCATION:Station Street Studio\, 26a Station Street\, Lewes\, East Sussex\, BN7 2DB\, United Kingdom
ORGANIZER;CN="Camille Cooper":MAILTO:Camillecooperdance@gmail.com
END:VEVENT
BEGIN:VEVENT
DTSTART;TZID=Europe/London:20241016T180000
DTEND;TZID=Europe/London:20241016T191500
DTSTAMP:20260420T061430
CREATED:20241008T120345Z
LAST-MODIFIED:20241014T102417Z
UID:10000255-1729101600-1729106100@stationstreetstudio.com
SUMMARY:Intermediate Qi Gong - Term 1
DESCRIPTION:Qi Gong for those who have completed the Beginners class
URL:https://stationstreetstudio.com/event/intermediate-qi-gong/2024-10-16/
LOCATION:Station Street Studio\, 26a Station Street\, Lewes\, East Sussex\, BN7 2DB\, United Kingdom
ORGANIZER;CN="Jeremy Marshall":MAILTO:mymarshallarts@hotmail.co.uk
END:VEVENT
BEGIN:VEVENT
DTSTART;TZID=Europe/London:20241016T181500
DTEND;TZID=Europe/London:20241016T191500
DTSTAMP:20260420T061430
CREATED:20241014T102218Z
LAST-MODIFIED:20241014T102218Z
UID:10000251-1729102500-1729106100@stationstreetstudio.com
SUMMARY:Learn Italian - Improver/Pre-Intermediates Term 1
DESCRIPTION:If you can use a few phrases in Italian and complete a simple conversation\, this is the slightly more than beginner class and may well be right for you. You’ll need to be willing to participate in interactive tasks and enjoy Laura’s fun and friendly style. This class involves reading\, writing\, listening and speaking in Italian. \nTo book or find out more just email Laura Pritchard here infociaoitaliano@gmail.com
URL:https://stationstreetstudio.com/event/learn-italian-improver-pre-intermediates-term-1/2024-10-16/
LOCATION:Station Street Studio\, 26a Station Street\, Lewes\, East Sussex\, BN7 2DB\, United Kingdom
ORGANIZER;CN="Laura Pritchard":MAILTO:infociaoitaliano@gmail.com
END:VEVENT
BEGIN:VEVENT
DTSTART;TZID=Europe/London:20241016T184500
DTEND;TZID=Europe/London:20241016T193000
DTSTAMP:20260420T061430
CREATED:20241008T120345Z
LAST-MODIFIED:20241014T104056Z
UID:10000197-1729104300-1729107000@stationstreetstudio.com
SUMMARY:Youth Street Dance - Term 1
DESCRIPTION:Youth Street Dance Class incorporating other Modern Dance styles too. Taught by Ayşe Denizli for East Sussex Dance. Opportunities to work towards exams and Shows or just Dance for fun. Open to ages 12-17
URL:https://stationstreetstudio.com/event/youth-street-dance/2024-10-16/
LOCATION:Station Street Studio\, 26a Station Street\, Lewes\, East Sussex\, BN7 2DB\, United Kingdom
ORGANIZER;CN="East Sussex Dance":MAILTO:info@eastsussexdance.com
END:VEVENT
BEGIN:VEVENT
DTSTART;TZID=Europe/London:20241016T194500
DTEND;TZID=Europe/London:20241016T204500
DTSTAMP:20260420T061430
CREATED:20241008T120344Z
LAST-MODIFIED:20241027T163032Z
UID:10000083-1729107900-1729111500@stationstreetstudio.com
SUMMARY:Adult Contemporary Dance Class Term 1
DESCRIPTION:Adults contemporary dance class for all ages and abilities from 16 and up. Come and enjoy the freedom of creative movement with expert tuition in central Lewes. All welcome.\nCamillecooperdance@gmail.com
URL:https://stationstreetstudio.com/event/contemporary-dance-classes/2024-10-16/2/
LOCATION:Station Street Studio\, 26a Station Street\, Lewes\, East Sussex\, BN7 2DB\, United Kingdom
ORGANIZER;CN="Camille Cooper":MAILTO:Camillecooperdance@gmail.com
END:VEVENT
END:VCALENDAR