BEGIN:VCALENDAR
VERSION:2.0
PRODID:-//Station Street Studio - ECPv6.15.20//NONSGML v1.0//EN
CALSCALE:GREGORIAN
METHOD:PUBLISH
X-ORIGINAL-URL:https://stationstreetstudio.com
X-WR-CALDESC:Events for Station Street Studio
REFRESH-INTERVAL;VALUE=DURATION:PT1H
X-Robots-Tag:noindex
X-PUBLISHED-TTL:PT1H
BEGIN:VTIMEZONE
TZID:Europe/London
BEGIN:DAYLIGHT
TZOFFSETFROM:+0000
TZOFFSETTO:+0100
TZNAME:BST
DTSTART:20230326T010000
END:DAYLIGHT
BEGIN:STANDARD
TZOFFSETFROM:+0100
TZOFFSETTO:+0000
TZNAME:GMT
DTSTART:20231029T010000
END:STANDARD
BEGIN:DAYLIGHT
TZOFFSETFROM:+0000
TZOFFSETTO:+0100
TZNAME:BST
DTSTART:20240331T010000
END:DAYLIGHT
BEGIN:STANDARD
TZOFFSETFROM:+0100
TZOFFSETTO:+0000
TZNAME:GMT
DTSTART:20241027T010000
END:STANDARD
BEGIN:DAYLIGHT
TZOFFSETFROM:+0000
TZOFFSETTO:+0100
TZNAME:BST
DTSTART:20250330T010000
END:DAYLIGHT
BEGIN:STANDARD
TZOFFSETFROM:+0100
TZOFFSETTO:+0000
TZNAME:GMT
DTSTART:20251026T010000
END:STANDARD
END:VTIMEZONE
BEGIN:VEVENT
DTSTART;TZID=Europe/London:20241204T180000
DTEND;TZID=Europe/London:20241204T191500
DTSTAMP:20260420T003314
CREATED:20241008T120345Z
LAST-MODIFIED:20241014T102417Z
UID:10000262-1733335200-1733339700@stationstreetstudio.com
SUMMARY:Intermediate Qi Gong - Term 1
DESCRIPTION:Qi Gong for those who have completed the Beginners class
URL:https://stationstreetstudio.com/event/intermediate-qi-gong/2024-12-04/
LOCATION:Station Street Studio\, 26a Station Street\, Lewes\, East Sussex\, BN7 2DB\, United Kingdom
ORGANIZER;CN="Jeremy Marshall":MAILTO:mymarshallarts@hotmail.co.uk
END:VEVENT
BEGIN:VEVENT
DTSTART;TZID=Europe/London:20241204T184500
DTEND;TZID=Europe/London:20241204T193000
DTSTAMP:20260420T003314
CREATED:20241008T120345Z
LAST-MODIFIED:20241014T104056Z
UID:10000204-1733337900-1733340600@stationstreetstudio.com
SUMMARY:Youth Street Dance - Term 1
DESCRIPTION:Youth Street Dance Class incorporating other Modern Dance styles too. Taught by Ayşe Denizli for East Sussex Dance. Opportunities to work towards exams and Shows or just Dance for fun. Open to ages 12-17
URL:https://stationstreetstudio.com/event/youth-street-dance/2024-12-04/
LOCATION:Station Street Studio\, 26a Station Street\, Lewes\, East Sussex\, BN7 2DB\, United Kingdom
ORGANIZER;CN="East Sussex Dance":MAILTO:info@eastsussexdance.com
END:VEVENT
END:VCALENDAR