BEGIN:VCALENDAR
VERSION:2.0
PRODID:-//Station Street Studio - ECPv6.15.20//NONSGML v1.0//EN
CALSCALE:GREGORIAN
METHOD:PUBLISH
X-WR-CALNAME:Station Street Studio
X-ORIGINAL-URL:https://stationstreetstudio.com
X-WR-CALDESC:Events for Station Street Studio
REFRESH-INTERVAL;VALUE=DURATION:PT1H
X-Robots-Tag:noindex
X-PUBLISHED-TTL:PT1H
BEGIN:VTIMEZONE
TZID:Europe/London
BEGIN:DAYLIGHT
TZOFFSETFROM:+0000
TZOFFSETTO:+0100
TZNAME:BST
DTSTART:20220327T010000
END:DAYLIGHT
BEGIN:STANDARD
TZOFFSETFROM:+0100
TZOFFSETTO:+0000
TZNAME:GMT
DTSTART:20221030T010000
END:STANDARD
BEGIN:DAYLIGHT
TZOFFSETFROM:+0000
TZOFFSETTO:+0100
TZNAME:BST
DTSTART:20230326T010000
END:DAYLIGHT
BEGIN:STANDARD
TZOFFSETFROM:+0100
TZOFFSETTO:+0000
TZNAME:GMT
DTSTART:20231029T010000
END:STANDARD
BEGIN:DAYLIGHT
TZOFFSETFROM:+0000
TZOFFSETTO:+0100
TZNAME:BST
DTSTART:20240331T010000
END:DAYLIGHT
BEGIN:STANDARD
TZOFFSETFROM:+0100
TZOFFSETTO:+0000
TZNAME:GMT
DTSTART:20241027T010000
END:STANDARD
END:VTIMEZONE
BEGIN:VEVENT
DTSTART;TZID=Europe/London:20231120T183000
DTEND;TZID=Europe/London:20231120T200000
DTSTAMP:20260420T223755
CREATED:20241015T131547Z
LAST-MODIFIED:20241015T131726Z
UID:10000321-1700505000-1700510400@stationstreetstudio.com
SUMMARY:Booty Camp Fitness
DESCRIPTION:Fun fitness with an African vibe! 30th Oct – 27th Nov  \nNozzi is a Co-founder of Twerk4Fitness Africa\, a creative-preneur\, Yogi\, and a versatile choreographer. She was born in Lawley\, a township in the south of Johannesburg\, South Africa\, where she developed her love for dancing. She started teaching online ‘Twerk’ classes during the pandemic\, which started getting popular globally. In October 2021\, she moved to Lewes\, and made it her mission to bring her love of twerking to the community. \nHer classes are an opportunity to reclaim the art of twerking as one of body positivity\, physical fitness\, and women’s empowerment while simultaneously celebrating the dance heritage of Africa and her diaspora. \n“I am passionate about spreading the word and introducing other people to this unique form of self-expression!”
URL:https://stationstreetstudio.com/event/booty-camp-fitness/
LOCATION:Station Street Studio\, 26a Station Street\, Lewes\, East Sussex\, BN7 2DB\, United Kingdom
ORGANIZER;CN="Station Street Studio":MAILTO:info@stationstreetstudio.com
END:VEVENT
BEGIN:VEVENT
DTSTART;TZID=Europe/London:20231017T130000
DTEND;TZID=Europe/London:20231017T170000
DTSTAMP:20260420T223755
CREATED:20241015T132016Z
LAST-MODIFIED:20241015T132016Z
UID:10000322-1697547600-1697562000@stationstreetstudio.com
SUMMARY:Pema Homeopathy Clinic
DESCRIPTION:Pema Sanders LCH\, BSc (homeopathy)\, MA  \nPema has practised and taught homeopathy for around 42 years\, in the UK and abroad. She lives in Bexhill and practises at home and in Lewes. \nWebsites: pemasandershomeopathy.co.uk (prices\, practice details) / homeopathyforliving.co.uk (Intro homeopathy courses)\nTo book an appointment: 01424-225372 or text 07969-491061 or email: pemasanders@hotmail.com
URL:https://stationstreetstudio.com/event/pema-homeopathy-clinic/
LOCATION:Station Street Studio\, 26a Station Street\, Lewes\, East Sussex\, BN7 2DB\, United Kingdom
ORGANIZER;CN="Station Street Studio":MAILTO:info@stationstreetstudio.com
END:VEVENT
END:VCALENDAR