BEGIN:VCALENDAR
VERSION:2.0
PRODID:-//Station Street Studio - ECPv6.15.20//NONSGML v1.0//EN
CALSCALE:GREGORIAN
METHOD:PUBLISH
X-WR-CALNAME:Station Street Studio
X-ORIGINAL-URL:https://stationstreetstudio.com
X-WR-CALDESC:Events for Station Street Studio
REFRESH-INTERVAL;VALUE=DURATION:PT1H
X-Robots-Tag:noindex
X-PUBLISHED-TTL:PT1H
BEGIN:VTIMEZONE
TZID:Europe/London
BEGIN:DAYLIGHT
TZOFFSETFROM:+0000
TZOFFSETTO:+0100
TZNAME:BST
DTSTART:20230326T010000
END:DAYLIGHT
BEGIN:STANDARD
TZOFFSETFROM:+0100
TZOFFSETTO:+0000
TZNAME:GMT
DTSTART:20231029T010000
END:STANDARD
BEGIN:DAYLIGHT
TZOFFSETFROM:+0000
TZOFFSETTO:+0100
TZNAME:BST
DTSTART:20240331T010000
END:DAYLIGHT
BEGIN:STANDARD
TZOFFSETFROM:+0100
TZOFFSETTO:+0000
TZNAME:GMT
DTSTART:20241027T010000
END:STANDARD
BEGIN:DAYLIGHT
TZOFFSETFROM:+0000
TZOFFSETTO:+0100
TZNAME:BST
DTSTART:20250330T010000
END:DAYLIGHT
BEGIN:STANDARD
TZOFFSETFROM:+0100
TZOFFSETTO:+0000
TZNAME:GMT
DTSTART:20251026T010000
END:STANDARD
BEGIN:DAYLIGHT
TZOFFSETFROM:+0000
TZOFFSETTO:+0100
TZNAME:BST
DTSTART:20260329T010000
END:DAYLIGHT
BEGIN:STANDARD
TZOFFSETFROM:+0100
TZOFFSETTO:+0000
TZNAME:GMT
DTSTART:20261025T010000
END:STANDARD
END:VTIMEZONE
BEGIN:VEVENT
DTSTART;TZID=Europe/London:20250128T164500
DTEND;TZID=Europe/London:20250128T174500
DTSTAMP:20260420T082821
CREATED:20241226T140520Z
LAST-MODIFIED:20241226T140520Z
UID:10000666-1738082700-1738086300@stationstreetstudio.com
SUMMARY:Private Hire (tap dancing)
DESCRIPTION:Hirer is practising routines and performance in the large space\,
URL:https://stationstreetstudio.com/event/private-hire-tap-dancing-2/2025-01-28/
LOCATION:Station Street Studio\, 26a Station Street\, Lewes\, East Sussex\, BN7 2DB\, United Kingdom
END:VEVENT
BEGIN:VEVENT
DTSTART;TZID=Europe/London:20250128T103000
DTEND;TZID=Europe/London:20250128T103000
DTSTAMP:20260420T082821
CREATED:20241226T143237Z
LAST-MODIFIED:20241226T143237Z
UID:10000732-1738060200-1738060200@stationstreetstudio.com
SUMMARY:Pilates for Bad Backs/ Gentle
DESCRIPTION:If you are sore or very stiff in the mornings\, you may need some gentle movement to help ease out your joints. This class is careful and considered but also introduces strengthen exercises that will help to rebalance your body. Every one works at their own pace. people with problems relating to discs come near the front where they are closely supervised. \nThis is also a good class if you are getting on in years and have other health conditions that make exercising difficult. The class is limited to 10 people only and mats and props are all provided. \n  \nPlease book in advance on the website www.EmmaPilates.co.uk \nYou will need to Create an Account to sign up for any Emma Pilates classes but if you are unsure please Email eepilates@gmail.com and you can come along and try a first session to see if it’s for you if there is a space.
URL:https://stationstreetstudio.com/event/pilates-for-bad-backs-gentle/2025-01-28/
END:VEVENT
BEGIN:VEVENT
DTSTART;TZID=Europe/London:20250128T091500
DTEND;TZID=Europe/London:20250128T101500
DTSTAMP:20260420T082821
CREATED:20241226T142716Z
LAST-MODIFIED:20241226T142716Z
UID:10000671-1738055700-1738059300@stationstreetstudio.com
SUMMARY:Improver/Intermediate Pilates Mat Class
DESCRIPTION:If you have experience of Pilates and like to challenge yourself\, this is a great class. It is also suitable if you have little experience of Pilates but have a strong core and do others activitis such as running. With many of the Foundation exercises we add on to enable you to work at a level that you will feel the benefit of and which ensures you make progress. \n  \nNot for anyone with specific back conditions or health problems that may become worse with movement in all directions. \nFREE trial class for all newbies! \nTo book please visit www.EmmaPilates.co.uk \n 
URL:https://stationstreetstudio.com/event/improver-intermediate-pilates-mat-class/2025-01-28/
END:VEVENT
BEGIN:VEVENT
DTSTART;TZID=Europe/London:20250123T193000
DTEND;TZID=Europe/London:20250123T203000
DTSTAMP:20260420T082821
CREATED:20241008T120344Z
LAST-MODIFIED:20241011T162150Z
UID:10000150-1737660600-1737664200@stationstreetstudio.com
SUMMARY:Beginners Qi Gong - Term 1
DESCRIPTION:Beginners Qi Gong. Simple\, slow\, mindful movement.
URL:https://stationstreetstudio.com/event/beginners-qi-gong/2025-01-23/
LOCATION:Station Street Studio\, 26a Station Street\, Lewes\, East Sussex\, BN7 2DB\, United Kingdom
ORGANIZER;CN="Jeremy Marshall":MAILTO:mymarshallarts@hotmail.co.uk
END:VEVENT
BEGIN:VEVENT
DTSTART;TZID=Europe/London:20250122T184500
DTEND;TZID=Europe/London:20250122T193000
DTSTAMP:20260420T082821
CREATED:20241008T120345Z
LAST-MODIFIED:20241014T104056Z
UID:10000211-1737571500-1737574200@stationstreetstudio.com
SUMMARY:Youth Street Dance - Term 1
DESCRIPTION:Youth Street Dance Class incorporating other Modern Dance styles too. Taught by Ayşe Denizli for East Sussex Dance. Opportunities to work towards exams and Shows or just Dance for fun. Open to ages 12-17
URL:https://stationstreetstudio.com/event/youth-street-dance/2025-01-22/
LOCATION:Station Street Studio\, 26a Station Street\, Lewes\, East Sussex\, BN7 2DB\, United Kingdom
ORGANIZER;CN="East Sussex Dance":MAILTO:info@eastsussexdance.com
END:VEVENT
BEGIN:VEVENT
DTSTART;TZID=Europe/London:20250121T164500
DTEND;TZID=Europe/London:20250121T174500
DTSTAMP:20260420T082821
CREATED:20241226T140520Z
LAST-MODIFIED:20241226T140520Z
UID:10000665-1737477900-1737481500@stationstreetstudio.com
SUMMARY:Private Hire (tap dancing)
DESCRIPTION:Hirer is practising routines and performance in the large space\,
URL:https://stationstreetstudio.com/event/private-hire-tap-dancing-2/2025-01-21/
LOCATION:Station Street Studio\, 26a Station Street\, Lewes\, East Sussex\, BN7 2DB\, United Kingdom
END:VEVENT
BEGIN:VEVENT
DTSTART;TZID=Europe/London:20250121T103000
DTEND;TZID=Europe/London:20250121T103000
DTSTAMP:20260420T082821
CREATED:20241226T143237Z
LAST-MODIFIED:20241226T143237Z
UID:10000731-1737455400-1737455400@stationstreetstudio.com
SUMMARY:Pilates for Bad Backs/ Gentle
DESCRIPTION:If you are sore or very stiff in the mornings\, you may need some gentle movement to help ease out your joints. This class is careful and considered but also introduces strengthen exercises that will help to rebalance your body. Every one works at their own pace. people with problems relating to discs come near the front where they are closely supervised. \nThis is also a good class if you are getting on in years and have other health conditions that make exercising difficult. The class is limited to 10 people only and mats and props are all provided. \n  \nPlease book in advance on the website www.EmmaPilates.co.uk \nYou will need to Create an Account to sign up for any Emma Pilates classes but if you are unsure please Email eepilates@gmail.com and you can come along and try a first session to see if it’s for you if there is a space.
URL:https://stationstreetstudio.com/event/pilates-for-bad-backs-gentle/2025-01-21/
END:VEVENT
BEGIN:VEVENT
DTSTART;TZID=Europe/London:20250121T091500
DTEND;TZID=Europe/London:20250121T101500
DTSTAMP:20260420T082821
CREATED:20241226T142716Z
LAST-MODIFIED:20241226T142716Z
UID:10000670-1737450900-1737454500@stationstreetstudio.com
SUMMARY:Improver/Intermediate Pilates Mat Class
DESCRIPTION:If you have experience of Pilates and like to challenge yourself\, this is a great class. It is also suitable if you have little experience of Pilates but have a strong core and do others activitis such as running. With many of the Foundation exercises we add on to enable you to work at a level that you will feel the benefit of and which ensures you make progress. \n  \nNot for anyone with specific back conditions or health problems that may become worse with movement in all directions. \nFREE trial class for all newbies! \nTo book please visit www.EmmaPilates.co.uk \n 
URL:https://stationstreetstudio.com/event/improver-intermediate-pilates-mat-class/2025-01-21/
END:VEVENT
BEGIN:VEVENT
DTSTART;TZID=Europe/London:20250118T103000
DTEND;TZID=Europe/London:20250118T113000
DTSTAMP:20260420T082821
CREATED:20241226T141000Z
LAST-MODIFIED:20241226T141039Z
UID:10000304-1737196200-1737199800@stationstreetstudio.com
SUMMARY:Saturday 'Drop-In' Pilates - Energising Mat Class (L1 -3) Term 3
DESCRIPTION:A lively and fun ‘Drop-In’ class to get you moving. Please note this class is MOST Saturdays but not all so check website for dates. Incorporating the key principles of Pilates – centering\, precision\, breath and flow – we will develop strength and flexibility. This class is a general class aimed at anyone with some fitness to stronger individuals who like a challenge. (L1 – 3). \nThis class is also available to do from your own home or when you’re away from Lewes via ZOOM. When booking please CHECK CAREFULLY that you are booking the In Person or On Zoom class as they are listed as two separate sessions on the booking list. Occasionally the On Zoom version will be Pre-Recorded (5th October & 19th October’24). If you buy a term and are not wanting recording you can be refunded for these sessions. On Zoom is bookable termly (£10 p cl) or as one-offs (£11) In Person only bookable week by week.(£12) \nBook here: www.EmmaPilates.co.ukwww.EmmaPilates.co.uk(In Person Book week by week).
URL:https://stationstreetstudio.com/event/saturday-drop-in-pilates-energising-mat-class-l1-3-term-1-2-2/
LOCATION:Station Street Studio\, 26a Station Street\, Lewes\, East Sussex\, BN7 2DB\, United Kingdom
ORGANIZER;CN="Emma Peters":MAILTO:eepilates@gmail.com
END:VEVENT
BEGIN:VEVENT
DTSTART;TZID=Europe/London:20250117T101500
DTEND;TZID=Europe/London:20250117T111500
DTSTAMP:20260420T082821
CREATED:20241226T141216Z
LAST-MODIFIED:20241226T141226Z
UID:10000312-1737108900-1737112500@stationstreetstudio.com
SUMMARY:Foundation Pilates (L1 - 2) Term 3
DESCRIPTION:This regular weekly class focuses on the core principles of Pilates matwork including breath\, movement\, control\, centering and flow. We move at a careful pace with everyone working at their comfortable rhythm. If you are looking for a Beginner level class which will equip you with skills to develop in order to strengthen up (especially your deeper ‘core’ muscles)\, reduce achey niggles and improve your flexibility and posture – here’s your class! \nSuitable for all ages and fitness levels but especially for people of a certain age (over 45)\, this is a sociable and friendly group. Places are available by the term for £13 per week (or part-term if you are joining midway) or there are two Drop-In places per session (£14.50). If this is your first class with Emma Pilates you can get a FREE Trial ticket. \nPlease reserve your place or FREE Trial at www.EmmaPilates.co.uk \nN.B If you cannot make this day/time one week you are welcome to come to another class during the block/half term but make-up classes cannot be taken after this series.
URL:https://stationstreetstudio.com/event/foundation-pilates-l1-2-term-1-2/
LOCATION:Station Street Studio\, 26a Station Street\, Lewes\, East Sussex\, BN7 2DB\, United Kingdom
ORGANIZER;CN="Emma Peters":MAILTO:eepilates@gmail.com
END:VEVENT
BEGIN:VEVENT
DTSTART;TZID=Europe/London:20250117T090000
DTEND;TZID=Europe/London:20250117T100000
DTSTAMP:20260420T082821
CREATED:20241226T141439Z
LAST-MODIFIED:20241226T141439Z
UID:10000320-1737104400-1737108000@stationstreetstudio.com
SUMMARY:Improver/Intermediate Pilates (L1-3) Term 3
DESCRIPTION:This is a block of classes running throughout the year\, charged by each half term of 5 – 7 weeks. You can also try a session for free if you book a TRIAL ticket via the website and I offer a few Pay As You Go tickets at a higher price per session (£14.50) if you can’t commit.\nWe use the essential Pilates principles of Breathing\, Control\, Alignment\, Centering and Flow to enable you to work your whole body. Most exercices can be modified to accommodate anyone wishing to be careful with specific movements\, but generally you should be able to move freely in all directions for this session. The number of movements is up to you to decide but if you wish to challenge yourself\, this class will let you. \nThis is a block of classes over each half term\, but you can join at a later date if there is a space. (It knocks off £12 per week that you have missed). \nI offer first timers a FREE trial ticket for this class which can be booked via my website and there are a few Pay As You Go tickets available for this class if you cannot commit to every week but the charge is higher per session than if you buy a block – £14.50 per PAYG. \nFor prices\, dates and TO BOOK click here: www.EmmaPilates.co.uk
URL:https://stationstreetstudio.com/event/improver-intermediate-pilates-l1-3-term-1-2/
LOCATION:Station Street Studio\, 26a Station Street\, Lewes\, East Sussex\, BN7 2DB\, United Kingdom
ORGANIZER;CN="Emma Peters":MAILTO:eepilates@gmail.com
END:VEVENT
BEGIN:VEVENT
DTSTART;TZID=Europe/London:20250116T193000
DTEND;TZID=Europe/London:20250116T203000
DTSTAMP:20260420T082821
CREATED:20241008T120344Z
LAST-MODIFIED:20241011T162150Z
UID:10000149-1737055800-1737059400@stationstreetstudio.com
SUMMARY:Beginners Qi Gong - Term 1
DESCRIPTION:Beginners Qi Gong. Simple\, slow\, mindful movement.
URL:https://stationstreetstudio.com/event/beginners-qi-gong/2025-01-16/
LOCATION:Station Street Studio\, 26a Station Street\, Lewes\, East Sussex\, BN7 2DB\, United Kingdom
ORGANIZER;CN="Jeremy Marshall":MAILTO:mymarshallarts@hotmail.co.uk
END:VEVENT
BEGIN:VEVENT
DTSTART;TZID=Europe/London:20250115T184500
DTEND;TZID=Europe/London:20250115T193000
DTSTAMP:20260420T082821
CREATED:20241008T120345Z
LAST-MODIFIED:20241014T104056Z
UID:10000210-1736966700-1736969400@stationstreetstudio.com
SUMMARY:Youth Street Dance - Term 1
DESCRIPTION:Youth Street Dance Class incorporating other Modern Dance styles too. Taught by Ayşe Denizli for East Sussex Dance. Opportunities to work towards exams and Shows or just Dance for fun. Open to ages 12-17
URL:https://stationstreetstudio.com/event/youth-street-dance/2025-01-15/
LOCATION:Station Street Studio\, 26a Station Street\, Lewes\, East Sussex\, BN7 2DB\, United Kingdom
ORGANIZER;CN="East Sussex Dance":MAILTO:info@eastsussexdance.com
END:VEVENT
BEGIN:VEVENT
DTSTART;TZID=Europe/London:20250114T164500
DTEND;TZID=Europe/London:20250114T174500
DTSTAMP:20260420T082821
CREATED:20241226T140520Z
LAST-MODIFIED:20241226T140520Z
UID:10000614-1736873100-1736876700@stationstreetstudio.com
SUMMARY:Private Hire (tap dancing)
DESCRIPTION:Hirer is practising routines and performance in the large space\,
URL:https://stationstreetstudio.com/event/private-hire-tap-dancing-2/2025-01-14/
LOCATION:Station Street Studio\, 26a Station Street\, Lewes\, East Sussex\, BN7 2DB\, United Kingdom
END:VEVENT
BEGIN:VEVENT
DTSTART;TZID=Europe/London:20250114T103000
DTEND;TZID=Europe/London:20250114T103000
DTSTAMP:20260420T082821
CREATED:20241226T143237Z
LAST-MODIFIED:20241226T143237Z
UID:10000730-1736850600-1736850600@stationstreetstudio.com
SUMMARY:Pilates for Bad Backs/ Gentle
DESCRIPTION:If you are sore or very stiff in the mornings\, you may need some gentle movement to help ease out your joints. This class is careful and considered but also introduces strengthen exercises that will help to rebalance your body. Every one works at their own pace. people with problems relating to discs come near the front where they are closely supervised. \nThis is also a good class if you are getting on in years and have other health conditions that make exercising difficult. The class is limited to 10 people only and mats and props are all provided. \n  \nPlease book in advance on the website www.EmmaPilates.co.uk \nYou will need to Create an Account to sign up for any Emma Pilates classes but if you are unsure please Email eepilates@gmail.com and you can come along and try a first session to see if it’s for you if there is a space.
URL:https://stationstreetstudio.com/event/pilates-for-bad-backs-gentle/2025-01-14/
END:VEVENT
BEGIN:VEVENT
DTSTART;TZID=Europe/London:20250114T091500
DTEND;TZID=Europe/London:20250114T101500
DTSTAMP:20260420T082821
CREATED:20241226T142716Z
LAST-MODIFIED:20241226T142716Z
UID:10000669-1736846100-1736849700@stationstreetstudio.com
SUMMARY:Improver/Intermediate Pilates Mat Class
DESCRIPTION:If you have experience of Pilates and like to challenge yourself\, this is a great class. It is also suitable if you have little experience of Pilates but have a strong core and do others activitis such as running. With many of the Foundation exercises we add on to enable you to work at a level that you will feel the benefit of and which ensures you make progress. \n  \nNot for anyone with specific back conditions or health problems that may become worse with movement in all directions. \nFREE trial class for all newbies! \nTo book please visit www.EmmaPilates.co.uk \n 
URL:https://stationstreetstudio.com/event/improver-intermediate-pilates-mat-class/2025-01-14/
END:VEVENT
BEGIN:VEVENT
DTSTART;TZID=Europe/London:20250113T093000
DTEND;TZID=Europe/London:20250113T103000
DTSTAMP:20260420T082821
CREATED:20241226T141524Z
LAST-MODIFIED:20241226T141524Z
UID:10000289-1736760600-1736764200@stationstreetstudio.com
SUMMARY:Pilates STRETCH 'In Person' and 'on ZOOM' (L1 - 2) Term 3
DESCRIPTION:Come and ease out stiff joints\, warm up tired muscles and rejuvenate your mind!\nThis 9.30am class can be booked by the half term block\, or there are a couple of drop-in spaces too. \nThis weekly class has been online via Zoom since Covid\, but now it’s here in person the heart of Lewes too! If you prefer to be in the same four walls as the teacher\, you’re welcome to come and join in at Station Street. This is a class designed not to overtax your mind or body\, but to ease you gently into the new week and have you coming out taller\, lighter and quite possibly\, brighter too.\nSuitable for absolutely anyone and everyone who can get down (with or without the assistance of a chair) onto a mat on the floor. \nTo book click www.EmmaPilates.co.uk (When you book please BE CAREFUL to book the ‘In Person’ OR the ‘On ZOOM’ class as they are listed as two separate classes!)
URL:https://stationstreetstudio.com/event/pilates-stretch-in-person-and-on-zoom-l1-2-term-1-2/
LOCATION:Station Street Studio\, 26a Station Street\, Lewes\, East Sussex\, BN7 2DB\, United Kingdom
ORGANIZER;CN="Emma Peters":MAILTO:eepilates@gmail.com
END:VEVENT
BEGIN:VEVENT
DTSTART;TZID=Europe/London:20250109T193000
DTEND;TZID=Europe/London:20250109T203000
DTSTAMP:20260420T082821
CREATED:20241008T120344Z
LAST-MODIFIED:20241011T162150Z
UID:10000148-1736451000-1736454600@stationstreetstudio.com
SUMMARY:Beginners Qi Gong - Term 1
DESCRIPTION:Beginners Qi Gong. Simple\, slow\, mindful movement.
URL:https://stationstreetstudio.com/event/beginners-qi-gong/2025-01-09/
LOCATION:Station Street Studio\, 26a Station Street\, Lewes\, East Sussex\, BN7 2DB\, United Kingdom
ORGANIZER;CN="Jeremy Marshall":MAILTO:mymarshallarts@hotmail.co.uk
END:VEVENT
BEGIN:VEVENT
DTSTART;TZID=Europe/London:20250109T161500
DTEND;TZID=Europe/London:20250109T171500
DTSTAMP:20260420T082821
CREATED:20241226T140902Z
LAST-MODIFIED:20241226T140902Z
UID:10000603-1736439300-1736442900@stationstreetstudio.com
SUMMARY:Tai Chi Teachers Private Hire
DESCRIPTION:This is a private meeting with invitees attending only. Please do not turn up without prior agreement from the organiser.
URL:https://stationstreetstudio.com/event/tai-chi-teachers-private-hire-2/
END:VEVENT
BEGIN:VEVENT
DTSTART;TZID=Europe/London:20250108T184500
DTEND;TZID=Europe/London:20250108T193000
DTSTAMP:20260420T082821
CREATED:20241008T120345Z
LAST-MODIFIED:20241014T104056Z
UID:10000209-1736361900-1736364600@stationstreetstudio.com
SUMMARY:Youth Street Dance - Term 1
DESCRIPTION:Youth Street Dance Class incorporating other Modern Dance styles too. Taught by Ayşe Denizli for East Sussex Dance. Opportunities to work towards exams and Shows or just Dance for fun. Open to ages 12-17
URL:https://stationstreetstudio.com/event/youth-street-dance/2025-01-08/
LOCATION:Station Street Studio\, 26a Station Street\, Lewes\, East Sussex\, BN7 2DB\, United Kingdom
ORGANIZER;CN="East Sussex Dance":MAILTO:info@eastsussexdance.com
END:VEVENT
BEGIN:VEVENT
DTSTART;TZID=Europe/London:20250102T193000
DTEND;TZID=Europe/London:20250102T203000
DTSTAMP:20260420T082821
CREATED:20241008T120344Z
LAST-MODIFIED:20241011T162150Z
UID:10000147-1735846200-1735849800@stationstreetstudio.com
SUMMARY:Beginners Qi Gong - Term 1
DESCRIPTION:Beginners Qi Gong. Simple\, slow\, mindful movement.
URL:https://stationstreetstudio.com/event/beginners-qi-gong/2025-01-02/
LOCATION:Station Street Studio\, 26a Station Street\, Lewes\, East Sussex\, BN7 2DB\, United Kingdom
ORGANIZER;CN="Jeremy Marshall":MAILTO:mymarshallarts@hotmail.co.uk
END:VEVENT
BEGIN:VEVENT
DTSTART;TZID=Europe/London:20250101T184500
DTEND;TZID=Europe/London:20250101T193000
DTSTAMP:20260420T082821
CREATED:20241008T120345Z
LAST-MODIFIED:20241014T104056Z
UID:10000208-1735757100-1735759800@stationstreetstudio.com
SUMMARY:Youth Street Dance - Term 1
DESCRIPTION:Youth Street Dance Class incorporating other Modern Dance styles too. Taught by Ayşe Denizli for East Sussex Dance. Opportunities to work towards exams and Shows or just Dance for fun. Open to ages 12-17
URL:https://stationstreetstudio.com/event/youth-street-dance/2025-01-01/
LOCATION:Station Street Studio\, 26a Station Street\, Lewes\, East Sussex\, BN7 2DB\, United Kingdom
ORGANIZER;CN="East Sussex Dance":MAILTO:info@eastsussexdance.com
END:VEVENT
BEGIN:VEVENT
DTSTART;TZID=Europe/London:20241226T193000
DTEND;TZID=Europe/London:20241226T203000
DTSTAMP:20260420T082821
CREATED:20241008T120344Z
LAST-MODIFIED:20241011T162150Z
UID:10000146-1735241400-1735245000@stationstreetstudio.com
SUMMARY:Beginners Qi Gong - Term 1
DESCRIPTION:Beginners Qi Gong. Simple\, slow\, mindful movement.
URL:https://stationstreetstudio.com/event/beginners-qi-gong/2024-12-26/
LOCATION:Station Street Studio\, 26a Station Street\, Lewes\, East Sussex\, BN7 2DB\, United Kingdom
ORGANIZER;CN="Jeremy Marshall":MAILTO:mymarshallarts@hotmail.co.uk
END:VEVENT
BEGIN:VEVENT
DTSTART;TZID=Europe/London:20241225T184500
DTEND;TZID=Europe/London:20241225T193000
DTSTAMP:20260420T082821
CREATED:20241008T120345Z
LAST-MODIFIED:20241014T104056Z
UID:10000207-1735152300-1735155000@stationstreetstudio.com
SUMMARY:Youth Street Dance - Term 1
DESCRIPTION:Youth Street Dance Class incorporating other Modern Dance styles too. Taught by Ayşe Denizli for East Sussex Dance. Opportunities to work towards exams and Shows or just Dance for fun. Open to ages 12-17
URL:https://stationstreetstudio.com/event/youth-street-dance/2024-12-25/
LOCATION:Station Street Studio\, 26a Station Street\, Lewes\, East Sussex\, BN7 2DB\, United Kingdom
ORGANIZER;CN="East Sussex Dance":MAILTO:info@eastsussexdance.com
END:VEVENT
BEGIN:VEVENT
DTSTART;TZID=Europe/London:20241224T170000
DTEND;TZID=Europe/London:20241224T180000
DTSTAMP:20260420T082821
CREATED:20241128T133929Z
LAST-MODIFIED:20241128T133929Z
UID:10000613-1735059600-1735063200@stationstreetstudio.com
SUMMARY:Private Hire (tap dancing)
DESCRIPTION:Hirer is practising routines and performance in the large space\,
URL:https://stationstreetstudio.com/event/private-hire-tap-dancing/2024-12-24/
LOCATION:Station Street Studio\, 26a Station Street\, Lewes\, East Sussex\, BN7 2DB\, United Kingdom
END:VEVENT
BEGIN:VEVENT
DTSTART;TZID=Europe/London:20241219T193000
DTEND;TZID=Europe/London:20241219T203000
DTSTAMP:20260420T082821
CREATED:20241008T120344Z
LAST-MODIFIED:20241011T162150Z
UID:10000145-1734636600-1734640200@stationstreetstudio.com
SUMMARY:Beginners Qi Gong - Term 1
DESCRIPTION:Beginners Qi Gong. Simple\, slow\, mindful movement.
URL:https://stationstreetstudio.com/event/beginners-qi-gong/2024-12-19/
LOCATION:Station Street Studio\, 26a Station Street\, Lewes\, East Sussex\, BN7 2DB\, United Kingdom
ORGANIZER;CN="Jeremy Marshall":MAILTO:mymarshallarts@hotmail.co.uk
END:VEVENT
BEGIN:VEVENT
DTSTART;TZID=Europe/London:20241218T184500
DTEND;TZID=Europe/London:20241218T193000
DTSTAMP:20260420T082821
CREATED:20241008T120345Z
LAST-MODIFIED:20241014T104056Z
UID:10000206-1734547500-1734550200@stationstreetstudio.com
SUMMARY:Youth Street Dance - Term 1
DESCRIPTION:Youth Street Dance Class incorporating other Modern Dance styles too. Taught by Ayşe Denizli for East Sussex Dance. Opportunities to work towards exams and Shows or just Dance for fun. Open to ages 12-17
URL:https://stationstreetstudio.com/event/youth-street-dance/2024-12-18/
LOCATION:Station Street Studio\, 26a Station Street\, Lewes\, East Sussex\, BN7 2DB\, United Kingdom
ORGANIZER;CN="East Sussex Dance":MAILTO:info@eastsussexdance.com
END:VEVENT
BEGIN:VEVENT
DTSTART;TZID=Europe/London:20241217T170000
DTEND;TZID=Europe/London:20241217T180000
DTSTAMP:20260420T082821
CREATED:20241128T133929Z
LAST-MODIFIED:20241128T133929Z
UID:10000612-1734454800-1734458400@stationstreetstudio.com
SUMMARY:Private Hire (tap dancing)
DESCRIPTION:Hirer is practising routines and performance in the large space\,
URL:https://stationstreetstudio.com/event/private-hire-tap-dancing/2024-12-17/
LOCATION:Station Street Studio\, 26a Station Street\, Lewes\, East Sussex\, BN7 2DB\, United Kingdom
END:VEVENT
BEGIN:VEVENT
DTSTART;TZID=Europe/London:20241217T104500
DTEND;TZID=Europe/London:20241217T114500
DTSTAMP:20260420T082821
CREATED:20241014T102848Z
LAST-MODIFIED:20241014T102848Z
UID:10000272-1734432300-1734435900@stationstreetstudio.com
SUMMARY:Improver/Intermediate Pilates (L2 - 3)
DESCRIPTION:FREE 1st CLASS! \nThis class runs in an on-going weekly series throughout the year\, charged by each half term of 5 – 7 weeks. You can also try a session for free if you book a TRIAL ticket via the website and I offer a few Pay As You Go tickets per session (£14.50) if you can’t commit. If you buy as a block it work dout £13 per class.\nWe use the essential Pilates principles of Breathing\, Control\, Alignment\, Centering and Flow to enable you to work your whole body. Most exercices can be modified to accommodate anyone wishing to be careful with specific movements\, but generally you should be able to move freely in all directions for this session. The number of movements is up to you to decide but if you wish to challenge yourself\, this class will let you.\nThis is a block of classes over each half term\, but you can join at a later date if there is a space. (It knocks off £13 per week that you have missed).\nI offer first timers a FREE trial ticket for this class which can be booked via my website and there are a few Pay As You Go tickets available for this class if you cannot commit to every week but the charge is higher per session than if you buy a block. (£14.50 per PAYG).\nFor prices\, dates and TO BOOK for the rest of term\, a drop-in or a FREE TRIAL ticket click here: www.EmmaPilates.co.uk
URL:https://stationstreetstudio.com/event/improver-intermediate-pilates-l2-3/2024-12-17/
LOCATION:Station Street Studio\, 26a Station Street\, Lewes\, East Sussex\, BN7 2DB\, United Kingdom
ORGANIZER;CN="Emma Peters":MAILTO:eepilates@gmail.com
END:VEVENT
BEGIN:VEVENT
DTSTART;TZID=Europe/London:20241217T093000
DTEND;TZID=Europe/London:20241217T103000
DTSTAMP:20260420T082821
CREATED:20241014T103134Z
LAST-MODIFIED:20241014T103134Z
UID:10000281-1734427800-1734431400@stationstreetstudio.com
SUMMARY:Pilates - Gentle/Backcare (L1) Term 1
DESCRIPTION:A weekly gentle and deliberately-paced session to help you move more freely\nIf you want to takes things slowly and carefully. Using the essential Pilates principles of Breathing and Control\, it helps you develop body awareness and teaches movement in a manner that recruits muscles correctly while maintaining good alignment. \nA very relaxed and informal class with a maximum of 9 places. If the class is not full\, you are welcome to come and try a session FREE before you book for the rest of the series. It’s assumed you can get down onto a mat (please bring one with you or ask if yo0u don’t have one)\, but there are chairs which can be used to help modify some exercises and positions if required. \nThe series lasts half a term so you book in advance via my website. If you wish to try a class for FREE you can book a free TRIAL ticket if you haven’t done any other freebies with me. I also offer a few one-off tickets to buy in case you can’t commit to a full block. These are £14 per session from Jan ’24. If you buy the block in advance it’s £13 cheaper per session.There are two Drop-In tickets per session at £14.50. \nFor prices\, dates and to book please click here www.EmmaPilates.co.ukwww.EmmaPilates.co.uk
URL:https://stationstreetstudio.com/event/pilates-gentle-backcare-l1-term-1/2024-12-17/
LOCATION:Station Street Studio\, 26a Station Street\, Lewes\, East Sussex\, BN7 2DB\, United Kingdom
ORGANIZER;CN="Emma Peters":MAILTO:eepilates@gmail.com
END:VEVENT
END:VCALENDAR