BEGIN:VCALENDAR
VERSION:2.0
PRODID:-//Station Street Studio - ECPv6.15.20//NONSGML v1.0//EN
CALSCALE:GREGORIAN
METHOD:PUBLISH
X-WR-CALNAME:Station Street Studio
X-ORIGINAL-URL:https://stationstreetstudio.com
X-WR-CALDESC:Events for Station Street Studio
REFRESH-INTERVAL;VALUE=DURATION:PT1H
X-Robots-Tag:noindex
X-PUBLISHED-TTL:PT1H
BEGIN:VTIMEZONE
TZID:Europe/London
BEGIN:DAYLIGHT
TZOFFSETFROM:+0000
TZOFFSETTO:+0100
TZNAME:BST
DTSTART:20230326T010000
END:DAYLIGHT
BEGIN:STANDARD
TZOFFSETFROM:+0100
TZOFFSETTO:+0000
TZNAME:GMT
DTSTART:20231029T010000
END:STANDARD
BEGIN:DAYLIGHT
TZOFFSETFROM:+0000
TZOFFSETTO:+0100
TZNAME:BST
DTSTART:20240331T010000
END:DAYLIGHT
BEGIN:STANDARD
TZOFFSETFROM:+0100
TZOFFSETTO:+0000
TZNAME:GMT
DTSTART:20241027T010000
END:STANDARD
BEGIN:DAYLIGHT
TZOFFSETFROM:+0000
TZOFFSETTO:+0100
TZNAME:BST
DTSTART:20250330T010000
END:DAYLIGHT
BEGIN:STANDARD
TZOFFSETFROM:+0100
TZOFFSETTO:+0000
TZNAME:GMT
DTSTART:20251026T010000
END:STANDARD
END:VTIMEZONE
BEGIN:VEVENT
DTSTART;TZID=Europe/London:20241202T194500
DTEND;TZID=Europe/London:20241202T204500
DTSTAMP:20260419T194535
CREATED:20241008T120345Z
LAST-MODIFIED:20241027T163222Z
UID:10000595-1733168700-1733172300@stationstreetstudio.com
SUMMARY:Yoga With Fon - Term 2
DESCRIPTION:A yoga flow to allow your body to stretch and extend each muscle; a mindful practice that invites you to breathe deeply and move with ease giving some time for yourself.  The session begins with 10 minutes breathing preparation\, to help us prepare for the physical flow (which will last about 40 minutes) and we end with a short\, calming\, meditation inspired by Anusaranga practic. This flow is a wonderful practice for anyone looking to improve their wellbeing and sense of inner peace. Suitable for all levels. \nYou can find more information on www.yogawithfon.co.uk   Price per class: £12 First Class: FREE\ninfo@fonyoga.co.uk
URL:https://stationstreetstudio.com/event/yoga-with-fon/2024-12-02/
LOCATION:Station Street Studio\, 26a Station Street\, Lewes\, East Sussex\, BN7 2DB\, United Kingdom
ORGANIZER;CN="Yoga With Fon":MAILTO:info@fonyoga.co.uk
END:VEVENT
BEGIN:VEVENT
DTSTART;TZID=Europe/London:20241209T194500
DTEND;TZID=Europe/London:20241209T204500
DTSTAMP:20260419T194535
CREATED:20241008T120345Z
LAST-MODIFIED:20241027T163222Z
UID:10000596-1733773500-1733777100@stationstreetstudio.com
SUMMARY:Yoga With Fon - Term 2
DESCRIPTION:A yoga flow to allow your body to stretch and extend each muscle; a mindful practice that invites you to breathe deeply and move with ease giving some time for yourself.  The session begins with 10 minutes breathing preparation\, to help us prepare for the physical flow (which will last about 40 minutes) and we end with a short\, calming\, meditation inspired by Anusaranga practic. This flow is a wonderful practice for anyone looking to improve their wellbeing and sense of inner peace. Suitable for all levels. \nYou can find more information on www.yogawithfon.co.uk   Price per class: £12 First Class: FREE\ninfo@fonyoga.co.uk
URL:https://stationstreetstudio.com/event/yoga-with-fon/2024-12-09/
LOCATION:Station Street Studio\, 26a Station Street\, Lewes\, East Sussex\, BN7 2DB\, United Kingdom
ORGANIZER;CN="Yoga With Fon":MAILTO:info@fonyoga.co.uk
END:VEVENT
BEGIN:VEVENT
DTSTART;TZID=Europe/London:20241216T194500
DTEND;TZID=Europe/London:20241216T204500
DTSTAMP:20260419T194535
CREATED:20241008T120345Z
LAST-MODIFIED:20241027T163222Z
UID:10000597-1734378300-1734381900@stationstreetstudio.com
SUMMARY:Yoga With Fon - Term 2
DESCRIPTION:A yoga flow to allow your body to stretch and extend each muscle; a mindful practice that invites you to breathe deeply and move with ease giving some time for yourself.  The session begins with 10 minutes breathing preparation\, to help us prepare for the physical flow (which will last about 40 minutes) and we end with a short\, calming\, meditation inspired by Anusaranga practic. This flow is a wonderful practice for anyone looking to improve their wellbeing and sense of inner peace. Suitable for all levels. \nYou can find more information on www.yogawithfon.co.uk   Price per class: £12 First Class: FREE\ninfo@fonyoga.co.uk
URL:https://stationstreetstudio.com/event/yoga-with-fon/2024-12-16/
LOCATION:Station Street Studio\, 26a Station Street\, Lewes\, East Sussex\, BN7 2DB\, United Kingdom
ORGANIZER;CN="Yoga With Fon":MAILTO:info@fonyoga.co.uk
END:VEVENT
END:VCALENDAR