BEGIN:VCALENDAR
VERSION:2.0
PRODID:-//Station Street Studio - ECPv6.15.20//NONSGML v1.0//EN
CALSCALE:GREGORIAN
METHOD:PUBLISH
X-WR-CALNAME:Station Street Studio
X-ORIGINAL-URL:https://stationstreetstudio.com
X-WR-CALDESC:Events for Station Street Studio
REFRESH-INTERVAL;VALUE=DURATION:PT1H
X-Robots-Tag:noindex
X-PUBLISHED-TTL:PT1H
BEGIN:VTIMEZONE
TZID:Europe/London
BEGIN:DAYLIGHT
TZOFFSETFROM:+0000
TZOFFSETTO:+0100
TZNAME:BST
DTSTART:20230326T010000
END:DAYLIGHT
BEGIN:STANDARD
TZOFFSETFROM:+0100
TZOFFSETTO:+0000
TZNAME:GMT
DTSTART:20231029T010000
END:STANDARD
BEGIN:DAYLIGHT
TZOFFSETFROM:+0000
TZOFFSETTO:+0100
TZNAME:BST
DTSTART:20240331T010000
END:DAYLIGHT
BEGIN:STANDARD
TZOFFSETFROM:+0100
TZOFFSETTO:+0000
TZNAME:GMT
DTSTART:20241027T010000
END:STANDARD
BEGIN:DAYLIGHT
TZOFFSETFROM:+0000
TZOFFSETTO:+0100
TZNAME:BST
DTSTART:20250330T010000
END:DAYLIGHT
BEGIN:STANDARD
TZOFFSETFROM:+0100
TZOFFSETTO:+0000
TZNAME:GMT
DTSTART:20251026T010000
END:STANDARD
END:VTIMEZONE
BEGIN:VEVENT
DTSTART;TZID=Europe/London:20241030T180000
DTEND;TZID=Europe/London:20241030T191500
DTSTAMP:20260420T045909
CREATED:20241008T120345Z
LAST-MODIFIED:20241014T102417Z
UID:10000257-1730311200-1730315700@stationstreetstudio.com
SUMMARY:Intermediate Qi Gong - Term 1
DESCRIPTION:Qi Gong for those who have completed the Beginners class
URL:https://stationstreetstudio.com/event/intermediate-qi-gong/2024-10-30/
LOCATION:Station Street Studio\, 26a Station Street\, Lewes\, East Sussex\, BN7 2DB\, United Kingdom
ORGANIZER;CN="Jeremy Marshall":MAILTO:mymarshallarts@hotmail.co.uk
END:VEVENT
BEGIN:VEVENT
DTSTART;TZID=Europe/London:20241030T181500
DTEND;TZID=Europe/London:20241030T191500
DTSTAMP:20260420T045909
CREATED:20241014T102218Z
LAST-MODIFIED:20241014T102218Z
UID:10000253-1730312100-1730315700@stationstreetstudio.com
SUMMARY:Learn Italian - Improver/Pre-Intermediates Term 1
DESCRIPTION:If you can use a few phrases in Italian and complete a simple conversation\, this is the slightly more than beginner class and may well be right for you. You’ll need to be willing to participate in interactive tasks and enjoy Laura’s fun and friendly style. This class involves reading\, writing\, listening and speaking in Italian. \nTo book or find out more just email Laura Pritchard here infociaoitaliano@gmail.com
URL:https://stationstreetstudio.com/event/learn-italian-improver-pre-intermediates-term-1/2024-10-30/
LOCATION:Station Street Studio\, 26a Station Street\, Lewes\, East Sussex\, BN7 2DB\, United Kingdom
ORGANIZER;CN="Laura Pritchard":MAILTO:infociaoitaliano@gmail.com
END:VEVENT
BEGIN:VEVENT
DTSTART;TZID=Europe/London:20241030T184500
DTEND;TZID=Europe/London:20241030T193000
DTSTAMP:20260420T045909
CREATED:20241008T120345Z
LAST-MODIFIED:20241014T104056Z
UID:10000199-1730313900-1730316600@stationstreetstudio.com
SUMMARY:Youth Street Dance - Term 1
DESCRIPTION:Youth Street Dance Class incorporating other Modern Dance styles too. Taught by Ayşe Denizli for East Sussex Dance. Opportunities to work towards exams and Shows or just Dance for fun. Open to ages 12-17
URL:https://stationstreetstudio.com/event/youth-street-dance/2024-10-30/
LOCATION:Station Street Studio\, 26a Station Street\, Lewes\, East Sussex\, BN7 2DB\, United Kingdom
ORGANIZER;CN="East Sussex Dance":MAILTO:info@eastsussexdance.com
END:VEVENT
BEGIN:VEVENT
DTSTART;TZID=Europe/London:20241030T194500
DTEND;TZID=Europe/London:20241030T204500
DTSTAMP:20260420T045909
CREATED:20241008T120344Z
LAST-MODIFIED:20241027T163032Z
UID:10000085-1730317500-1730321100@stationstreetstudio.com
SUMMARY:Adult Contemporary Dance Class Term 1
DESCRIPTION:Adults contemporary dance class for all ages and abilities from 16 and up. Come and enjoy the freedom of creative movement with expert tuition in central Lewes. All welcome.\nCamillecooperdance@gmail.com
URL:https://stationstreetstudio.com/event/contemporary-dance-classes/2024-10-30/
LOCATION:Station Street Studio\, 26a Station Street\, Lewes\, East Sussex\, BN7 2DB\, United Kingdom
ORGANIZER;CN="Camille Cooper":MAILTO:Camillecooperdance@gmail.com
END:VEVENT
BEGIN:VEVENT
DTSTART;TZID=Europe/London:20241102T103000
DTEND;TZID=Europe/London:20241102T113000
DTSTAMP:20260420T045909
CREATED:20241027T162716Z
LAST-MODIFIED:20241027T162716Z
UID:10000292-1730543400-1730547000@stationstreetstudio.com
SUMMARY:Saturday 'Drop-In' Pilates - Energising Mat Class (L1 -3) Term 1
DESCRIPTION:A lively and fun ‘Drop-In’ class to get you moving. Please note this class is MOST Saturdays but not all so check website for dates. Incorporating the key principles of Pilates – centering\, precision\, breath and flow – we will develop strength and flexibility. This class is a general class aimed at anyone with some fitness to stronger individuals who like a challenge. (L1 – 3). \nThis class is also available to do from your own home or when you’re away from Lewes via ZOOM. When booking please CHECK CAREFULLY that you are booking the In Person or On Zoom class as they are listed as two separate sessions on the booking list. Occasionally the On Zoom version will be Pre-Recorded (5th October & 19th October’24). If you buy a term and are not wanting recording you can be refunded for these sessions. On Zoom is bookable termly (£10 p cl) or as one-offs (£11) In Person only bookable week by week.(£12) \nBook here: www.EmmaPilates.co.ukwww.EmmaPilates.co.uk(In Person Book week by week).
URL:https://stationstreetstudio.com/event/saturday-drop-in-pilates-energising-mat-class-l1-3-term-1-2/2024-11-02/
LOCATION:Station Street Studio\, 26a Station Street\, Lewes\, East Sussex\, BN7 2DB\, United Kingdom
ORGANIZER;CN="Emma Peters":MAILTO:eepilates@gmail.com
END:VEVENT
END:VCALENDAR