BEGIN:VCALENDAR
VERSION:2.0
PRODID:-//Station Street Studio - ECPv6.15.20//NONSGML v1.0//EN
CALSCALE:GREGORIAN
METHOD:PUBLISH
X-ORIGINAL-URL:https://stationstreetstudio.com
X-WR-CALDESC:Events for Station Street Studio
REFRESH-INTERVAL;VALUE=DURATION:PT1H
X-Robots-Tag:noindex
X-PUBLISHED-TTL:PT1H
BEGIN:VTIMEZONE
TZID:Europe/London
BEGIN:DAYLIGHT
TZOFFSETFROM:+0000
TZOFFSETTO:+0100
TZNAME:BST
DTSTART:20240331T010000
END:DAYLIGHT
BEGIN:STANDARD
TZOFFSETFROM:+0100
TZOFFSETTO:+0000
TZNAME:GMT
DTSTART:20241027T010000
END:STANDARD
BEGIN:DAYLIGHT
TZOFFSETFROM:+0000
TZOFFSETTO:+0100
TZNAME:BST
DTSTART:20250330T010000
END:DAYLIGHT
BEGIN:STANDARD
TZOFFSETFROM:+0100
TZOFFSETTO:+0000
TZNAME:GMT
DTSTART:20251026T010000
END:STANDARD
BEGIN:DAYLIGHT
TZOFFSETFROM:+0000
TZOFFSETTO:+0100
TZNAME:BST
DTSTART:20260329T010000
END:DAYLIGHT
BEGIN:STANDARD
TZOFFSETFROM:+0100
TZOFFSETTO:+0000
TZNAME:GMT
DTSTART:20261025T010000
END:STANDARD
END:VTIMEZONE
BEGIN:VEVENT
DTSTART;TZID=Europe/London:20250108T184500
DTEND;TZID=Europe/London:20250108T193000
DTSTAMP:20260420T031951
CREATED:20241008T120345Z
LAST-MODIFIED:20241014T104056Z
UID:10000209-1736361900-1736364600@stationstreetstudio.com
SUMMARY:Youth Street Dance - Term 1
DESCRIPTION:Youth Street Dance Class incorporating other Modern Dance styles too. Taught by Ayşe Denizli for East Sussex Dance. Opportunities to work towards exams and Shows or just Dance for fun. Open to ages 12-17
URL:https://stationstreetstudio.com/event/youth-street-dance/2025-01-08/
LOCATION:Station Street Studio\, 26a Station Street\, Lewes\, East Sussex\, BN7 2DB\, United Kingdom
ORGANIZER;CN="East Sussex Dance":MAILTO:info@eastsussexdance.com
END:VEVENT
BEGIN:VEVENT
DTSTART;TZID=Europe/London:20250109T161500
DTEND;TZID=Europe/London:20250109T171500
DTSTAMP:20260420T031951
CREATED:20241226T140902Z
LAST-MODIFIED:20241226T140902Z
UID:10000603-1736439300-1736442900@stationstreetstudio.com
SUMMARY:Tai Chi Teachers Private Hire
DESCRIPTION:This is a private meeting with invitees attending only. Please do not turn up without prior agreement from the organiser.
URL:https://stationstreetstudio.com/event/tai-chi-teachers-private-hire-2/
END:VEVENT
BEGIN:VEVENT
DTSTART;TZID=Europe/London:20250109T193000
DTEND;TZID=Europe/London:20250109T203000
DTSTAMP:20260420T031951
CREATED:20241008T120344Z
LAST-MODIFIED:20241011T162150Z
UID:10000148-1736451000-1736454600@stationstreetstudio.com
SUMMARY:Beginners Qi Gong - Term 1
DESCRIPTION:Beginners Qi Gong. Simple\, slow\, mindful movement.
URL:https://stationstreetstudio.com/event/beginners-qi-gong/2025-01-09/
LOCATION:Station Street Studio\, 26a Station Street\, Lewes\, East Sussex\, BN7 2DB\, United Kingdom
ORGANIZER;CN="Jeremy Marshall":MAILTO:mymarshallarts@hotmail.co.uk
END:VEVENT
END:VCALENDAR